BEGIN:VCALENDAR
VERSION:2.0
PRODID:-//Don Armstrong - ECPv6.13.2.1//NONSGML v1.0//EN
CALSCALE:GREGORIAN
METHOD:PUBLISH
X-ORIGINAL-URL:https://donarmstronglive.com
X-WR-CALDESC:Events for Don Armstrong
REFRESH-INTERVAL;VALUE=DURATION:PT1H
X-Robots-Tag:noindex
X-PUBLISHED-TTL:PT1H
BEGIN:VTIMEZONE
TZID:UTC
BEGIN:STANDARD
TZOFFSETFROM:+0000
TZOFFSETTO:+0000
TZNAME:UTC
DTSTART:20200101T000000
END:STANDARD
END:VTIMEZONE
BEGIN:VEVENT
DTSTART;TZID=UTC:20200121T113000
DTEND;TZID=UTC:20200121T130000
DTSTAMP:20260423T144034
CREATED:20191218T194356Z
LAST-MODIFIED:20191218T200357Z
UID:1609-1579606200-1579611600@donarmstronglive.com
SUMMARY:Find Your Why to Finish Strong
DESCRIPTION:It’s a new year\, a new decade. You can make it the best ever by getting clear on your why so you can finish your race strong.\n\n\n\n\n\n\nAbout this Event\n\n\nLife is a race\, a journey. You are constantly in motion\, progressing forward day by day\, week by week. Often\, you are on autopilot and before you know it six months have gone by\, then five years. \nSTOP! Take time now to get clear on what you want your race to be in 2020 and the next decade. We are creating a space for you to hit pause on your life (even for a short while)\, to find clarity\, and define your why so you can finish your race strong. \nDon’t worry\, there will not be any running. You can leave your running shoes at home. \nIn this workshop\, you will take time to: \n\nClarify your journey\nLearn how to make the most of life’s moments\nReconnect with your why in life and business\nDiscuss the importance of your choices now\nTake the first step towards genuine happiness\, joy & fulfillment\n\nIncludes a box lunch\, worksheets and time for you to work on you. \n\n\nPresenter: \nDon Armstrong\, Empowering Speaker/Author/Coach \nDon Armstrong is an impactful and inspiring speaker\, author and survivor. A leukemia survivor\, who has become a “life thriver” since his healing and recovery\, Don’s story is one of transformation and impact. His life-changing battle with blood cancer revealed critical elements of Don’s life that were missing. Life now for Don is about more than surviving but about making a difference in as many lives as possible. Don thrives on sharing his journey\, the life lessons and the huge victories that changed his personal and professional life. \n\nPurchase Tickets!
URL:https://donarmstronglive.com/event/find-your-why-to-finish-strong/
LOCATION:Ensemble Coworking\, 1617 Park Place Avenue #Suite 110\, Fort Worth\, TX\, 76110\, United States
ATTACH;FMTTYPE=image/jpeg:https://donarmstronglive.com/wp-content/uploads/2019/12/clarity-workshop-1.jpg
END:VEVENT
END:VCALENDAR